BEGIN:VCALENDAR
VERSION:2.0
PRODID:-//eventon.com NONSGML v1.0//EN
CALSCALE:GREGORIAN
METHOD:PUBLISH
BEGIN:VEVENT
UID:69ebbf734d446
DTSTAMP:20260424T190731Z
DTSTART:20200712
DTEND:20200713
LOCATION:Rumelange (L)
SUMMARY:CFI\,  CFE\,  Compak
DESCRIPTION:CFI\,  CFE\,  Compak\nhttps://www.fltas.lu/events/cfi-cfe-compa
 k/
URL:https://www.fltas.lu/events/cfi-cfe-compak/
END:VEVENT
END:VCALENDAR