BEGIN:VCALENDAR
VERSION:2.0
PRODID:-//eventon.com NONSGML v1.0//EN
CALSCALE:GREGORIAN
METHOD:PUBLISH
BEGIN:VEVENT
UID:69ebc0f152ccf
DTSTAMP:20260424T191353Z
DTSTART:20200718
DTEND:20200719
LOCATION:Rumelange (L)
SUMMARY:CNI\,  CFI\,  CNE\,  Trap
DESCRIPTION:CNI\,  CFI\,  CNE\,  Trap\nhttps://www.fltas.lu/events/cni-cfi-
 cne-trap/
URL:https://www.fltas.lu/events/cni-cfi-cne-trap/
END:VEVENT
END:VCALENDAR