BEGIN:VCALENDAR
VERSION:2.0
PRODID:-//eventon.com NONSGML v1.0//EN
CALSCALE:GREGORIAN
METHOD:PUBLISH
BEGIN:VEVENT
UID:69ebc0fa48b73
DTSTAMP:20260424T191402Z
DTSTART:20200725
DTEND:20200726
LOCATION:Differdange (L)
SUMMARY:CNI\,  CFI\,  CNE\,  Skeet
DESCRIPTION:CNI\,  CFI\,  CNE\,  Skeet\nhttps://www.fltas.lu/events/cni-cfi
 -cne-skeet/
URL:https://www.fltas.lu/events/cni-cfi-cne-skeet/
END:VEVENT
END:VCALENDAR