BEGIN:VCALENDAR
VERSION:2.0
PRODID:-//eventon.com NONSGML v1.0//EN
CALSCALE:GREGORIAN
METHOD:PUBLISH
BEGIN:VEVENT
UID:69ebd38e7ff21
DTSTAMP:20260424T203318Z
DTSTART:20200314
DTEND:20200315
LOCATION:Schifflange (L)
SUMMARY:PIST/REV GROS CAL.1
DESCRIPTION:9+10+11 &#8211; 14+15+16\,  Observ: straremy@icloud.com\,  Orga
 nisateur: STASS\,  Inscription: 691 568 516\nhttps://www.fltas.lu/events/pi
 st-rev-gros-cal-1/
URL:https://www.fltas.lu/events/pist-rev-gros-cal-1/
END:VEVENT
END:VCALENDAR