BEGIN:VCALENDAR
VERSION:2.0
PRODID:-//eventon.com NONSGML v1.0//EN
CALSCALE:GREGORIAN
METHOD:PUBLISH
BEGIN:VEVENT
UID:69ebbfaee3ceb
DTSTAMP:20260424T190830Z
DTSTART:20200315
DTEND:20200316
LOCATION:Kayl (L)
SUMMARY:FEU CENTRAL 1
DESCRIPTION:9 + 11\,  Organisateur: SSCK\,  Inscription: 621 170 106\nhttps
 ://www.fltas.lu/events/feu-central-1-2/
URL:https://www.fltas.lu/events/feu-central-1-2/
END:VEVENT
END:VCALENDAR