BEGIN:VCALENDAR
VERSION:2.0
PRODID:-//eventon.com NONSGML v1.0//EN
CALSCALE:GREGORIAN
METHOD:PUBLISH
BEGIN:VEVENT
UID:69ebd9cb0dc84
DTSTAMP:20260424T205955Z
DTSTART:20200325
DTEND:20200326
LOCATION:Hesperange (L)
SUMMARY:TIR RAPIDE 1
DESCRIPTION:17\,  Organisateur: STH\,  Inscription: 621 168 782\nhttps://ww
 w.fltas.lu/events/tir-rapide-1/
URL:https://www.fltas.lu/events/tir-rapide-1/
END:VEVENT
END:VCALENDAR