BEGIN:VCALENDAR
VERSION:2.0
PRODID:-//eventon.com NONSGML v1.0//EN
CALSCALE:GREGORIAN
METHOD:PUBLISH
BEGIN:VEVENT
UID:69ebbf351b2c7
DTSTAMP:20260424T190629Z
DTSTART:20200328
DTEND:20200329
LOCATION:Kayl (L)
SUMMARY:PP1 - 1
DESCRIPTION:9.00+9.45+10.30+11.15+14+14.45+15.30+16.15+17\,  Organisateur: 
 SSCK\,  Inscription: 621 170 106\nhttps://www.fltas.lu/events/pp1-1-3/
URL:https://www.fltas.lu/events/pp1-1-3/
END:VEVENT
END:VCALENDAR