BEGIN:VCALENDAR
VERSION:2.0
PRODID:-//eventon.com NONSGML v1.0//EN
CALSCALE:GREGORIAN
METHOD:PUBLISH
BEGIN:VEVENT
UID:69ebbfafefedb
DTSTAMP:20260424T190831Z
DTSTART:20200401
DTEND:20200402
LOCATION:Kayl (L)
SUMMARY:STANDARD 1
DESCRIPTION:17.00+18.30\,  Organisateur: SSCK\,  Inscription: 621 170 106\n
 https://www.fltas.lu/events/standard-1-2/
URL:https://www.fltas.lu/events/standard-1-2/
END:VEVENT
END:VCALENDAR