BEGIN:VCALENDAR
VERSION:2.0
PRODID:-//eventon.com NONSGML v1.0//EN
CALSCALE:GREGORIAN
METHOD:PUBLISH
BEGIN:VEVENT
UID:69ebbf58480cb
DTSTAMP:20260424T190704Z
DTSTART:20200415
DTEND:20200416
LOCATION:Kayl (L)
SUMMARY:TIR RAPIDE 2
DESCRIPTION:17\,  Organisateur: SSCK\,  Inscription: 621 170 106\nhttps://w
 ww.fltas.lu/events/tir-rapide-2/
URL:https://www.fltas.lu/events/tir-rapide-2/
END:VEVENT
END:VCALENDAR