BEGIN:VCALENDAR
VERSION:2.0
PRODID:-//eventon.com NONSGML v1.0//EN
CALSCALE:GREGORIAN
METHOD:PUBLISH
BEGIN:VEVENT
UID:69ebc0ba51e29
DTSTAMP:20260424T191258Z
DTSTART:20200422
DTEND:20200423
LOCATION:Hesperange (L)
SUMMARY:LIBRE 1
DESCRIPTION:15.00 (Tir continu)\,  Organisateur: STH\,  Inscription: 621 16
 8 782\nhttps://www.fltas.lu/events/libre-1/
URL:https://www.fltas.lu/events/libre-1/
END:VEVENT
END:VCALENDAR