BEGIN:VCALENDAR
VERSION:2.0
PRODID:-//eventon.com NONSGML v1.0//EN
CALSCALE:GREGORIAN
METHOD:PUBLISH
BEGIN:VEVENT
UID:69ebd572056e9
DTSTAMP:20260424T204122Z
DTSTART:20200425
DTEND:20200426
LOCATION:Schifflange (L)
SUMMARY:PIST/REV GROS CAL.2
DESCRIPTION:9+10+11 &#8211; 14+15+16\,  Organisateur: ASTE\,  Inscription: 
 621 276 589\nhttps://www.fltas.lu/events/pist-rev-gros-cal-2/
URL:https://www.fltas.lu/events/pist-rev-gros-cal-2/
END:VEVENT
END:VCALENDAR