BEGIN:VCALENDAR
VERSION:2.0
PRODID:-//eventon.com NONSGML v1.0//EN
CALSCALE:GREGORIAN
METHOD:PUBLISH
BEGIN:VEVENT
UID:69ebbefbdf495
DTSTAMP:20260424T190531Z
DTSTART:20200426
DTEND:20200427
LOCATION:Hesperange (L)
SUMMARY:FEU CENTRAL 2
DESCRIPTION:9 + 11\,  Organisateur: STH\,  Inscription: 621 168 782\nhttps:
 //www.fltas.lu/events/feu-central-2-2/
URL:https://www.fltas.lu/events/feu-central-2-2/
END:VEVENT
END:VCALENDAR