BEGIN:VCALENDAR
VERSION:2.0
PRODID:-//eventon.com NONSGML v1.0//EN
CALSCALE:GREGORIAN
METHOD:PUBLISH
BEGIN:VEVENT
UID:69ebbf157d190
DTSTAMP:20260424T190557Z
DTSTART:20200429
DTEND:20200430
LOCATION:Hesperange (L)
SUMMARY:STANDARD 2
DESCRIPTION:17.00+18.30\,  Organisateur: STH\,  Inscription: 621 168 782\nh
 ttps://www.fltas.lu/events/standard-2-2/
URL:https://www.fltas.lu/events/standard-2-2/
END:VEVENT
END:VCALENDAR