BEGIN:VCALENDAR
VERSION:2.0
PRODID:-//eventon.com NONSGML v1.0//EN
CALSCALE:GREGORIAN
METHOD:PUBLISH
BEGIN:VEVENT
UID:69ebbfaf76575
DTSTAMP:20260424T190831Z
DTSTART:20200506
DTEND:20200507
LOCATION:Hesperange (L)
SUMMARY:TIR RAPIDE 3
DESCRIPTION:17\,  Organisateur: STH\,  Inscription: 621 168 782\nhttps://ww
 w.fltas.lu/events/tir-rapide-3/
URL:https://www.fltas.lu/events/tir-rapide-3/
END:VEVENT
END:VCALENDAR