BEGIN:VCALENDAR
VERSION:2.0
PRODID:-//eventon.com NONSGML v1.0//EN
CALSCALE:GREGORIAN
METHOD:PUBLISH
BEGIN:VEVENT
UID:69ebe85bdf2bf
DTSTAMP:20260424T220203Z
DTSTART:20200513
DTEND:20200514
LOCATION:Hesperange (L)
SUMMARY:STANDARD 3
DESCRIPTION:17.00+18.30\,  Organisateur: STB\,  Inscription: 691 470 640\nh
 ttps://www.fltas.lu/events/standard-3-2/
URL:https://www.fltas.lu/events/standard-3-2/
END:VEVENT
END:VCALENDAR