BEGIN:VCALENDAR
VERSION:2.0
PRODID:-//eventon.com NONSGML v1.0//EN
CALSCALE:GREGORIAN
METHOD:PUBLISH
BEGIN:VEVENT
UID:69ebc092444e1
DTSTAMP:20260424T191218Z
DTSTART:20200516
DTEND:20200517
LOCATION:Hesperange (L)
SUMMARY:PIST/REV GROS CAL.3
DESCRIPTION:9+10+11 &#8211; 14+15+16\,  Organisateur: STH\,  Inscription: 6
 21 222 471\nhttps://www.fltas.lu/events/pist-rev-gros-cal-3/
URL:https://www.fltas.lu/events/pist-rev-gros-cal-3/
END:VEVENT
END:VCALENDAR