BEGIN:VCALENDAR
VERSION:2.0
PRODID:-//eventon.com NONSGML v1.0//EN
CALSCALE:GREGORIAN
METHOD:PUBLISH
BEGIN:VEVENT
UID:69ebbfdc39319
DTSTAMP:20260424T190916Z
DTSTART:20200520
DTEND:20200521
LOCATION:Kayl (L)
SUMMARY:LIBRE 2
DESCRIPTION:15.00 (Tir continu)\,  Organisateur: SSCK\,  Inscription: 621 1
 70 106\nhttps://www.fltas.lu/events/libre-2/
URL:https://www.fltas.lu/events/libre-2/
END:VEVENT
END:VCALENDAR