BEGIN:VCALENDAR
VERSION:2.0
PRODID:-//eventon.com NONSGML v1.0//EN
CALSCALE:GREGORIAN
METHOD:PUBLISH
BEGIN:VEVENT
UID:69ebbf57d3e35
DTSTAMP:20260424T190703Z
DTSTART:20200524
DTEND:20200525
LOCATION:Hesperange (L)
SUMMARY:FEU CENTRAL 3
DESCRIPTION:9 + 11\,  Organisateur: STB\,  Inscription: 691 470 640\nhttps:
 //www.fltas.lu/events/feu-central-3-2/
URL:https://www.fltas.lu/events/feu-central-3-2/
END:VEVENT
END:VCALENDAR