BEGIN:VCALENDAR
VERSION:2.0
PRODID:-//eventon.com NONSGML v1.0//EN
CALSCALE:GREGORIAN
METHOD:PUBLISH
BEGIN:VEVENT
UID:69ebd408bf449
DTSTAMP:20260424T203520Z
DTSTART:20200527
DTEND:20200528
LOCATION:Hesperange (L)
SUMMARY:STANDARD 3
DESCRIPTION:17.00+18.30\,  Organisateur: STH\,  Inscription: 621 168 782\nh
 ttps://www.fltas.lu/events/standard-3-3/
URL:https://www.fltas.lu/events/standard-3-3/
END:VEVENT
END:VCALENDAR