BEGIN:VCALENDAR
VERSION:2.0
PRODID:-//eventon.com NONSGML v1.0//EN
CALSCALE:GREGORIAN
METHOD:PUBLISH
BEGIN:VEVENT
UID:69ebec6a22028
DTSTAMP:20260424T221922Z
DTSTART:20200617
DTEND:20200618
LOCATION:Hesperange (L)
SUMMARY:LIBRE 3
DESCRIPTION:15.00 (Tir continu)\,  Organisateur: STB\,  Inscription: 691 47
 0 640\nhttps://www.fltas.lu/events/libre-3/
URL:https://www.fltas.lu/events/libre-3/
END:VEVENT
END:VCALENDAR