BEGIN:VCALENDAR
VERSION:2.0
PRODID:-//eventon.com NONSGML v1.0//EN
CALSCALE:GREGORIAN
METHOD:PUBLISH
BEGIN:VEVENT
UID:69ebff5233571
DTSTAMP:20260424T234002Z
DTSTART:20200620
DTEND:20200621
LOCATION:Schifflange (L)
SUMMARY:PIST/REV GROS CAL.4
DESCRIPTION:9+10+11 &#8211; 14+15+16\,  Organisateur: CTPol\,  Inscription:
  ctp@police.etat.lu\nhttps://www.fltas.lu/events/pist-rev-gros-cal-4-2/
URL:https://www.fltas.lu/events/pist-rev-gros-cal-4-2/
END:VEVENT
END:VCALENDAR