BEGIN:VCALENDAR
VERSION:2.0
PRODID:-//eventon.com NONSGML v1.0//EN
CALSCALE:GREGORIAN
METHOD:PUBLISH
BEGIN:VEVENT
UID:69ec1184528d8
DTSTAMP:20260425T005740Z
DTSTART:20200621
DTEND:20200622
LOCATION:Kayl (L)
SUMMARY:FEU CENTRAL 4
DESCRIPTION:9 + 11\,  Organisateur: SSCK\,  Inscription: 621 170 106\nhttps
 ://www.fltas.lu/events/feu-central-4-2/
URL:https://www.fltas.lu/events/feu-central-4-2/
END:VEVENT
END:VCALENDAR