BEGIN:VCALENDAR
VERSION:2.0
PRODID:-//eventon.com NONSGML v1.0//EN
CALSCALE:GREGORIAN
METHOD:PUBLISH
BEGIN:VEVENT
UID:69ec2781c5d91
DTSTAMP:20260425T023129Z
DTSTART:20200624
DTEND:20200625
LOCATION:Hesperange (L)
SUMMARY:STANDARD 4
DESCRIPTION:17.00+18.30\,  Organisateur: STB\,  Inscription: 691 470 640\nh
 ttps://www.fltas.lu/events/standard-4-2/
URL:https://www.fltas.lu/events/standard-4-2/
END:VEVENT
END:VCALENDAR