BEGIN:VCALENDAR
VERSION:2.0
PRODID:-//eventon.com NONSGML v1.0//EN
CALSCALE:GREGORIAN
METHOD:PUBLISH
BEGIN:VEVENT
UID:69ec3cc9e005e
DTSTAMP:20260425T040217Z
DTSTART:20200627
DTEND:20200628
LOCATION:Echternach (L)
SUMMARY:PP1 - 3
DESCRIPTION:9.00+9.45+10.30+11.15+14+14.45+15.30+16.15+17\,  Organisateur: 
 STE\,  Inscription: 621 263 585\nhttps://www.fltas.lu/events/pp1-3-2/
URL:https://www.fltas.lu/events/pp1-3-2/
END:VEVENT
END:VCALENDAR