BEGIN:VCALENDAR
VERSION:2.0
PRODID:-//eventon.com NONSGML v1.0//EN
CALSCALE:GREGORIAN
METHOD:PUBLISH
BEGIN:VEVENT
UID:69ec98bba4a23
DTSTAMP:20260425T103435Z
DTSTART:20200711
DTEND:20200712
LOCATION:Kayl (L)
SUMMARY:PP1 - 4
DESCRIPTION:9.00+9.45+10.30+11.15+14+14.45+15.30+16.15+17\,  Organisateur: 
 SSCK\,  Inscription: 621 170 106\nhttps://www.fltas.lu/events/pp1-4-3/
URL:https://www.fltas.lu/events/pp1-4-3/
END:VEVENT
END:VCALENDAR