BEGIN:VCALENDAR
VERSION:2.0
PRODID:-//eventon.com NONSGML v1.0//EN
CALSCALE:GREGORIAN
METHOD:PUBLISH
BEGIN:VEVENT
UID:69ecaf799d3a6
DTSTAMP:20260425T121137Z
DTSTART:20200712
DTEND:20200713
LOCATION:Kayl (L)
SUMMARY:PP1 - 4
DESCRIPTION:9.00+9.45+10.30+11.15\,  Organisateur: SSCK\,  Inscription: 621
  170 106\nhttps://www.fltas.lu/events/pp1-4-4/
URL:https://www.fltas.lu/events/pp1-4-4/
END:VEVENT
END:VCALENDAR