BEGIN:VCALENDAR
VERSION:2.0
PRODID:-//eventon.com NONSGML v1.0//EN
CALSCALE:GREGORIAN
METHOD:PUBLISH
BEGIN:VEVENT
UID:69ecc31cf3257
DTSTAMP:20260425T133524Z
DTSTART:20200715
DTEND:20200716
LOCATION:Kayl (L)
SUMMARY:STANDARD  5
DESCRIPTION:17.00+18.30\,  Observ: CNI: 18.07\,  Organisateur: SSCK\,  Insc
 ription: 621 170 106\nhttps://www.fltas.lu/events/standard-5-2/
URL:https://www.fltas.lu/events/standard-5-2/
END:VEVENT
END:VCALENDAR