BEGIN:VCALENDAR
VERSION:2.0
PRODID:-//eventon.com NONSGML v1.0//EN
CALSCALE:GREGORIAN
METHOD:PUBLISH
BEGIN:VEVENT
UID:69ecddbde0e85
DTSTAMP:20260425T152901Z
DTSTART:20200722
DTEND:20200723
LOCATION:Kayl (L)
SUMMARY:TIR RAPIDE 6
DESCRIPTION:17\,  Observ: CNI: 25.07.\,  Organisateur: SSCK\,  Inscription:
  621 170 106\nhttps://www.fltas.lu/events/tir-rapide-6/
URL:https://www.fltas.lu/events/tir-rapide-6/
END:VEVENT
END:VCALENDAR