BEGIN:VCALENDAR
VERSION:2.0
PRODID:-//eventon.com NONSGML v1.0//EN
CALSCALE:GREGORIAN
METHOD:PUBLISH
BEGIN:VEVENT
UID:69ecf2cc6e8bc
DTSTAMP:20260425T165852Z
DTSTART:20200909
DTEND:20200910
LOCATION:Hesperange (L)
SUMMARY:LIBRE  5
DESCRIPTION:15.00 (Tir continu)\,  Organisateur: STH\,  Inscription: 621 16
 8 782\nhttps://www.fltas.lu/events/libre-5/
URL:https://www.fltas.lu/events/libre-5/
END:VEVENT
END:VCALENDAR