BEGIN:VCALENDAR
VERSION:2.0
PRODID:-//eventon.com NONSGML v1.0//EN
CALSCALE:GREGORIAN
METHOD:PUBLISH
BEGIN:VEVENT
UID:69ed1e44c7a4c
DTSTAMP:20260425T200420Z
DTSTART:20200919
DTEND:20200920
LOCATION:Volmerange (F)
SUMMARY:PIST/REV GROS CAL 5
DESCRIPTION:9+10+11 &#8211; 14+15+16\,  Organisateur: SAS\,  Inscription: 6
 21 184 522\nhttps://www.fltas.lu/events/pist-rev-gros-cal-5-2/
URL:https://www.fltas.lu/events/pist-rev-gros-cal-5-2/
END:VEVENT
END:VCALENDAR