BEGIN:VCALENDAR
VERSION:2.0
PRODID:-//eventon.com NONSGML v1.0//EN
CALSCALE:GREGORIAN
METHOD:PUBLISH
BEGIN:VEVENT
UID:69ed2708190c8
DTSTAMP:20260425T204144Z
DTSTART:20200920
DTEND:20200921
LOCATION:Hesperange (L)
SUMMARY:FEU CENTRAL  5
DESCRIPTION:9 + 11\,  Organisateur: STH\,  Inscription: 621 168 782\nhttps:
 //www.fltas.lu/events/feu-central-5-2/
URL:https://www.fltas.lu/events/feu-central-5-2/
END:VEVENT
END:VCALENDAR