BEGIN:VCALENDAR
VERSION:2.0
PRODID:-//eventon.com NONSGML v1.0//EN
CALSCALE:GREGORIAN
METHOD:PUBLISH
BEGIN:VEVENT
UID:69ed3dc2520ae
DTSTAMP:20260425T221842Z
DTSTART:20200923
DTEND:20200924
LOCATION:Kayl (L)
SUMMARY:LIBRE  6
DESCRIPTION:15.00 (Tir continu)\,  Observ: CNI: 26.09.\,  Organisateur: SSC
 K\,  Inscription: 621 170 106\nhttps://www.fltas.lu/events/libre-6/
URL:https://www.fltas.lu/events/libre-6/
END:VEVENT
END:VCALENDAR