BEGIN:VCALENDAR
VERSION:2.0
PRODID:-//eventon.com NONSGML v1.0//EN
CALSCALE:GREGORIAN
METHOD:PUBLISH
BEGIN:VEVENT
UID:69ed52c4b4b15
DTSTAMP:20260425T234820Z
DTSTART:20200926
DTEND:20200927
LOCATION:Echternach (L)
SUMMARY:PP1 - 5
DESCRIPTION:9.00+9.45+10.30+11.15+14+14.45+15.30+16.15+17\,  Organisateur: 
 STE\,  Inscription: 621 263 585\nhttps://www.fltas.lu/events/pp1-5-3/
URL:https://www.fltas.lu/events/pp1-5-3/
END:VEVENT
END:VCALENDAR