BEGIN:VCALENDAR
VERSION:2.0
PRODID:-//eventon.com NONSGML v1.0//EN
CALSCALE:GREGORIAN
METHOD:PUBLISH
BEGIN:VEVENT
UID:69ed68e4eeb65
DTSTAMP:20260426T012244Z
DTSTART:20200927
DTEND:20200928
LOCATION:Echternach (L)
SUMMARY:PP1 - 5
DESCRIPTION:9.00+9.45+10.30+11.15\,  Organisateur: STE\,  Inscription: 621 
 263 585\nhttps://www.fltas.lu/events/pp1-5-4/
URL:https://www.fltas.lu/events/pp1-5-4/
END:VEVENT
END:VCALENDAR