BEGIN:VCALENDAR
VERSION:2.0
PRODID:-//eventon.com NONSGML v1.0//EN
CALSCALE:GREGORIAN
METHOD:PUBLISH
BEGIN:VEVENT
UID:69ed97904499a
DTSTAMP:20260426T044152Z
DTSTART:20201004
DTEND:20201005
LOCATION:Bloëbierg (L)
SUMMARY:FEU CENTRAL  6 & CNI.CFI
DESCRIPTION:9 + 11\,  Organisateur: CTP/SSCB\,  Inscription: bigmil@pt.lu\n
 https://www.fltas.lu/events/feu-central-6-cni-cfi/
URL:https://www.fltas.lu/events/feu-central-6-cni-cfi/
END:VEVENT
END:VCALENDAR