BEGIN:VCALENDAR
VERSION:2.0
PRODID:-//eventon.com NONSGML v1.0//EN
CALSCALE:GREGORIAN
METHOD:PUBLISH
BEGIN:VEVENT
UID:69ed896f7ccf8
DTSTAMP:20260426T034135Z
DTSTART:20200418
DTEND:20200419
LOCATION:Kayl (L)
SUMMARY:PP1-2
DESCRIPTION:Inscription: 621 170 106\,  Organisateur: SSCK\nhttps://www.flt
 as.lu/events/pp1-2-6/
URL:https://www.fltas.lu/events/pp1-2-6/
END:VEVENT
END:VCALENDAR