BEGIN:VCALENDAR
VERSION:2.0
PRODID:-//eventon.com NONSGML v1.0//EN
CALSCALE:GREGORIAN
METHOD:PUBLISH
BEGIN:VEVENT
UID:69ed76c2e9fd8
DTSTAMP:20260426T022154Z
DTSTART:20200627
DTEND:20200628
LOCATION:Echternach (L)
SUMMARY:PP1-4
DESCRIPTION:Inscription: 621 263 585(Schmalen Jean)\,  Organisateur: STE\nh
 ttps://www.fltas.lu/events/pp1-4-5/
URL:https://www.fltas.lu/events/pp1-4-5/
END:VEVENT
END:VCALENDAR