BEGIN:VCALENDAR
VERSION:2.0
PRODID:-//eventon.com NONSGML v1.0//EN
CALSCALE:GREGORIAN
METHOD:PUBLISH
BEGIN:VEVENT
UID:69ed63344ce56
DTSTAMP:20260426T005828Z
DTSTART:20200711
DTEND:20200712
LOCATION:Kayl (L)
SUMMARY:PP1-3
DESCRIPTION:Inscription: 621 170 106\,  Organisateur: SSCK\nhttps://www.flt
 as.lu/events/pp1-3-4/
URL:https://www.fltas.lu/events/pp1-3-4/
END:VEVENT
END:VCALENDAR