BEGIN:VCALENDAR
VERSION:2.0
PRODID:-//eventon.com NONSGML v1.0//EN
CALSCALE:GREGORIAN
METHOD:PUBLISH
BEGIN:VEVENT
UID:69ed4e36967d2
DTSTAMP:20260425T232854Z
DTSTART:20200926
DTEND:20200927
LOCATION:Echternach (L)
SUMMARY:PP1-5
DESCRIPTION:Inscription: 621 263 585\,  Organisateur: STE\nhttps://www.flta
 s.lu/events/pp1-5-5/
URL:https://www.fltas.lu/events/pp1-5-5/
END:VEVENT
END:VCALENDAR