BEGIN:VCALENDAR
VERSION:2.0
PRODID:-//eventon.com NONSGML v1.0//EN
CALSCALE:GREGORIAN
METHOD:PUBLISH
BEGIN:VEVENT
UID:69ed3846a9be7
DTSTAMP:20260425T215518Z
DTSTART:20201017
DTEND:20201018
LOCATION:Echternach (L)
SUMMARY:PP1-6 & CFI
DESCRIPTION:Inscription: 621 263 585\,  Organisateur: STE\nhttps://www.flta
 s.lu/events/pp1-6-cfi-2/
URL:https://www.fltas.lu/events/pp1-6-cfi-2/
END:VEVENT
END:VCALENDAR