BEGIN:VCALENDAR
VERSION:2.0
PRODID:-//eventon.com NONSGML v1.0//EN
CALSCALE:GREGORIAN
METHOD:PUBLISH
BEGIN:VEVENT
UID:69ed233de65e9
DTSTAMP:20260425T202533Z
DTSTART:20200921
DTEND:20200922
LOCATION:
SUMMARY:Delai de dépose du nombre des équipes pour tir aux armes à air
DESCRIPTION:Delai de dépose du nombre des équipes pour tir aux armes à a
 ir\nhttps://www.fltas.lu/events/delai-de-depose-du-nombre-des-equipes-pour-
 tir-aux-armes-a-air/
URL:https://www.fltas.lu/events/delai-de-depose-du-nombre-des-equipes-pour-tir-aux-armes-a-air/
END:VEVENT
END:VCALENDAR