BEGIN:VCALENDAR
VERSION:2.0
PRODID:-//eventon.com NONSGML v1.0//EN
CALSCALE:GREGORIAN
METHOD:PUBLISH
BEGIN:VEVENT
UID:69ed0eaded347
DTSTAMP:20260425T185749Z
DTSTART:20201008
DTEND:20201009
LOCATION:
SUMMARY:Delai de dépose des équipes pour tir aux armes à air nominel
DESCRIPTION:Delai de dépose des équipes pour tir aux armes à air nominel
 \nhttps://www.fltas.lu/events/delai-de-depose-des-equipes-pour-tir-aux-arme
 s-a-air-nominel/
URL:https://www.fltas.lu/events/delai-de-depose-des-equipes-pour-tir-aux-armes-a-air-nominel/
END:VEVENT
END:VCALENDAR