BEGIN:VCALENDAR
VERSION:2.0
PRODID:-//eventon.com NONSGML v1.0//EN
CALSCALE:GREGORIAN
METHOD:PUBLISH
BEGIN:VEVENT
UID:69ecfac3ebbeb
DTSTAMP:20260425T173251Z
DTSTART:20201012
DTEND:20201013
LOCATION:
SUMMARY:Sortie du calendrier tir aux armes à air comprimé saison 2020/21
DESCRIPTION:Sortie du calendrier tir aux armes à air comprimé saison 2020
 /21\nhttps://www.fltas.lu/events/sortie-du-calendrier-tir-aux-armes-a-air-c
 omprime-saison-2020-21/
URL:https://www.fltas.lu/events/sortie-du-calendrier-tir-aux-armes-a-air-comprime-saison-2020-21/
END:VEVENT
END:VCALENDAR