BEGIN:VCALENDAR
VERSION:2.0
PRODID:-//eventon.com NONSGML v1.0//EN
CALSCALE:GREGORIAN
METHOD:PUBLISH
BEGIN:VEVENT
UID:69ece422a5dd1
DTSTAMP:20260425T155618Z
DTSTART:20201111
DTEND:20201112
LOCATION:
SUMMARY:Début du tir aux armes à air comprimé saison 2020/21 Div 1 & 2
DESCRIPTION:Début du tir aux armes à air comprimé saison 2020/21 Div 1 &
  2\nhttps://www.fltas.lu/events/debut-du-tir-aux-armes-a-air-comprime-saiso
 n-2020-21-div-1-2/
URL:https://www.fltas.lu/events/debut-du-tir-aux-armes-a-air-comprime-saison-2020-21-div-1-2/
END:VEVENT
END:VCALENDAR