BEGIN:VCALENDAR
VERSION:2.0
PRODID:-//eventon.com NONSGML v1.0//EN
CALSCALE:GREGORIAN
METHOD:PUBLISH
BEGIN:VEVENT
UID:69ecd0bb29a7c
DTSTAMP:20260425T143331Z
DTSTART:20201112
DTEND:20201113
LOCATION:
SUMMARY:Début du tir aux armes à air comprimé saison 2020/21 Div 3 & 4
DESCRIPTION:Début du tir aux armes à air comprimé saison 2020/21 Div 3 &
  4\nhttps://www.fltas.lu/events/debut-du-tir-aux-armes-a-air-comprime-saiso
 n-2020-21-div-3-4/
URL:https://www.fltas.lu/events/debut-du-tir-aux-armes-a-air-comprime-saison-2020-21-div-3-4/
END:VEVENT
END:VCALENDAR