BEGIN:VCALENDAR
VERSION:2.0
PRODID:-//eventon.com NONSGML v1.0//EN
CALSCALE:GREGORIAN
METHOD:PUBLISH
BEGIN:VEVENT
UID:69ecba78afa39
DTSTAMP:20260425T125832Z
DTSTART:20200314
DTEND:20200315
LOCATION:Schifflange (L)
SUMMARY:GROSCAL - 1
DESCRIPTION:GROSCAL - 1\nhttps://www.fltas.lu/events/groscal-1/
URL:https://www.fltas.lu/events/groscal-1/
END:VEVENT
END:VCALENDAR