BEGIN:VCALENDAR
VERSION:2.0
PRODID:-//eventon.com NONSGML v1.0//EN
CALSCALE:GREGORIAN
METHOD:PUBLISH
BEGIN:VEVENT
UID:69ec9dfa1b067
DTSTAMP:20260425T105658Z
DTSTART:20200315
DTEND:20200316
LOCATION:Hesperange (L)
SUMMARY:Feu Central - 1
DESCRIPTION:Feu Central - 1\nhttps://www.fltas.lu/events/feu-central-1-3/
URL:https://www.fltas.lu/events/feu-central-1-3/
END:VEVENT
END:VCALENDAR