BEGIN:VCALENDAR
VERSION:2.0
PRODID:-//eventon.com NONSGML v1.0//EN
CALSCALE:GREGORIAN
METHOD:PUBLISH
BEGIN:VEVENT
UID:69ec3b7ae5507
DTSTAMP:20260425T035642Z
DTSTART:20200321
DTEND:20200322
LOCATION:Kayl (L)
SUMMARY:CalFac DIFFERDANGE - KAYL 2
DESCRIPTION:15:00\nhttps://www.fltas.lu/events/calfac-differdange-kayl-2/
URL:https://www.fltas.lu/events/calfac-differdange-kayl-2/
END:VEVENT
END:VCALENDAR