BEGIN:VCALENDAR
VERSION:2.0
PRODID:-//eventon.com NONSGML v1.0//EN
CALSCALE:GREGORIAN
METHOD:PUBLISH
BEGIN:VEVENT
UID:69ec2748c0b2e
DTSTAMP:20260425T023032Z
DTSTART:20200321
DTEND:20200322
LOCATION:Schifflange (L)
SUMMARY:CalFac STASS 2 - Echternach
DESCRIPTION:16:00\nhttps://www.fltas.lu/events/calfac-stass-2-echternach/
URL:https://www.fltas.lu/events/calfac-stass-2-echternach/
END:VEVENT
END:VCALENDAR