BEGIN:VCALENDAR
VERSION:2.0
PRODID:-//eventon.com NONSGML v1.0//EN
CALSCALE:GREGORIAN
METHOD:PUBLISH
BEGIN:VEVENT
UID:69ec13be5608d
DTSTAMP:20260425T010710Z
DTSTART:20200322
DTEND:20200323
LOCATION:Diekirch (L)
SUMMARY:CalFac ARMEE - SAS
DESCRIPTION:10:00\nhttps://www.fltas.lu/events/calfac-armee-sas-2/
URL:https://www.fltas.lu/events/calfac-armee-sas-2/
END:VEVENT
END:VCALENDAR